Package: scde Version: 2.35.0 Command: chmod a+r scde -R && E:\biocbuild\bbs-3.21-bioc\R\bin\R.exe CMD build --keep-empty-dirs --no-resave-data scde StartedAt: 2025-01-31 21:12:08 -0500 (Fri, 31 Jan 2025) EndedAt: 2025-01-31 21:12:12 -0500 (Fri, 31 Jan 2025) EllapsedTime: 4.0 seconds RetCode: 0 Status: OK PackageFile: scde_2.35.0.tar.gz PackageFileSize: 1.059 MiB