Package: scde Version: 2.35.0 Command: /Library/Frameworks/R.framework/Resources/bin/R CMD INSTALL scde StartedAt: 2025-01-31 15:38:29 -0500 (Fri, 31 Jan 2025) EndedAt: 2025-01-31 15:39:28 -0500 (Fri, 31 Jan 2025) EllapsedTime: 59.6 seconds RetCode: 0 Status: OK