Package: scanMiRApp Version: 1.13.0 Command: /home/biocbuild/R/R/bin/R CMD INSTALL scanMiRApp StartedAt: 2025-01-29 20:09:06 -0000 (Wed, 29 Jan 2025) EndedAt: 2025-01-29 20:10:08 -0000 (Wed, 29 Jan 2025) EllapsedTime: 62.7 seconds RetCode: 0 Status: OK