Package: scanMiRApp Version: 1.13.0 Command: /home/biocbuild/R/R/bin/R CMD build --keep-empty-dirs --no-resave-data scanMiRApp StartedAt: 2025-01-29 01:58:57 -0000 (Wed, 29 Jan 2025) EndedAt: 2025-01-29 02:00:42 -0000 (Wed, 29 Jan 2025) EllapsedTime: 105.1 seconds RetCode: 0 Status: OK PackageFile: scanMiRApp_1.13.0.tar.gz PackageFileSize: 930.8 KiB