Package: scTGIF Version: 1.21.0 Command: rm -rf scTGIF.buildbin-libdir && mkdir scTGIF.buildbin-libdir && /Users/biocbuild/BBS/utils/build-universal.sh scTGIF_1.21.0.tar.gz /Library/Frameworks/R.framework/Resources/bin/R scTGIF.buildbin-libdir StartedAt: 2025-02-01 00:38:45 -0500 (Sat, 01 Feb 2025) EndedAt: 2025-02-01 00:39:36 -0500 (Sat, 01 Feb 2025) EllapsedTime: 51.0 seconds RetCode: 0 Status: OK PackageFile: scTGIF_1.21.0.tgz PackageFileSize: 2.031 MiB