Package: scTGIF Version: 1.21.0 Command: /home/biocbuild/R/R/bin/R CMD INSTALL scTGIF StartedAt: 2025-01-29 20:08:04 -0000 (Wed, 29 Jan 2025) EndedAt: 2025-01-29 20:08:51 -0000 (Wed, 29 Jan 2025) EllapsedTime: 46.7 seconds RetCode: 0 Status: OK