Package: scShapes Version: 1.13.0 Command: rm -rf scShapes.buildbin-libdir && mkdir scShapes.buildbin-libdir && /Users/biocbuild/BBS/utils/build-universal.sh scShapes_1.13.0.tar.gz /Library/Frameworks/R.framework/Resources/bin/R scShapes.buildbin-libdir StartedAt: 2025-02-01 00:38:42 -0500 (Sat, 01 Feb 2025) EndedAt: 2025-02-01 00:38:54 -0500 (Sat, 01 Feb 2025) EllapsedTime: 12.7 seconds RetCode: 0 Status: OK PackageFile: scShapes_1.13.0.tgz PackageFileSize: 72.11 KiB