Package: scMultiSim Version: 1.3.0 Command: E:\biocbuild\bbs-3.21-bioc\R\bin\R.exe CMD check --no-multiarch --install=check:scMultiSim.install-out.txt --library=E:\biocbuild\bbs-3.21-bioc\R\library --no-vignettes --timings scMultiSim_1.3.0.tar.gz StartedAt: 2025-02-03 04:59:28 -0500 (Mon, 03 Feb 2025) EndedAt: 2025-02-03 05:03:24 -0500 (Mon, 03 Feb 2025) EllapsedTime: 236.0 seconds RetCode: 0 Status: OK CheckDir: scMultiSim.Rcheck Warnings: 0