Package: scMultiSim Version: 1.3.0 Command: rm -rf scMultiSim.buildbin-libdir && mkdir scMultiSim.buildbin-libdir && E:\biocbuild\bbs-3.21-bioc\R\bin\R.exe CMD INSTALL --build --library=scMultiSim.buildbin-libdir scMultiSim_1.3.0.tar.gz StartedAt: 2025-02-03 08:12:37 -0500 (Mon, 03 Feb 2025) EndedAt: 2025-02-03 08:13:51 -0500 (Mon, 03 Feb 2025) EllapsedTime: 73.9 seconds RetCode: 0 Status: OK PackageFile: scMultiSim_1.3.0.zip PackageFileSize: 4.445 MiB