Package: scMultiSim Version: 1.3.0 Command: /Library/Frameworks/R.framework/Resources/bin/R CMD INSTALL scMultiSim StartedAt: 2025-02-02 15:19:21 -0500 (Sun, 02 Feb 2025) EndedAt: 2025-02-02 15:19:59 -0500 (Sun, 02 Feb 2025) EllapsedTime: 38.3 seconds RetCode: 0 Status: OK