Package: scMultiSim Version: 1.3.0 Command: /Library/Frameworks/R.framework/Resources/bin/R CMD build --keep-empty-dirs --no-resave-data scMultiSim StartedAt: 2025-02-02 18:07:38 -0500 (Sun, 02 Feb 2025) EndedAt: 2025-02-02 18:17:36 -0500 (Sun, 02 Feb 2025) EllapsedTime: 598.3 seconds RetCode: 0 Status: OK PackageFile: scMultiSim_1.3.0.tar.gz PackageFileSize: 5.394 MiB