Package: scMultiSim Version: 1.3.0 Command: /home/biocbuild/R/R/bin/R CMD INSTALL scMultiSim StartedAt: 2025-01-29 20:00:26 -0000 (Wed, 29 Jan 2025) EndedAt: 2025-01-29 20:01:05 -0000 (Wed, 29 Jan 2025) EllapsedTime: 39.4 seconds RetCode: 0 Status: OK