Package: scMultiSim Version: 1.3.0 Command: /home/biocbuild/R/R/bin/R CMD check --install=check:scMultiSim.install-out.txt --library=/home/biocbuild/R/R/site-library --no-vignettes --timings scMultiSim_1.3.0.tar.gz StartedAt: 2025-01-28 15:02:59 -0000 (Tue, 28 Jan 2025) EndedAt: 2025-01-28 15:08:30 -0000 (Tue, 28 Jan 2025) EllapsedTime: 331.3 seconds RetCode: 0 Status: OK CheckDir: scMultiSim.Rcheck Warnings: 0