Package: scMitoMut Version: 1.3.1 Command: rm -rf scMitoMut.buildbin-libdir && mkdir scMitoMut.buildbin-libdir && /Users/biocbuild/BBS/utils/build-universal.sh scMitoMut_1.3.1.tar.gz /Library/Frameworks/R.framework/Resources/bin/R scMitoMut.buildbin-libdir StartedAt: 2025-02-01 00:38:09 -0500 (Sat, 01 Feb 2025) EndedAt: 2025-02-01 00:38:36 -0500 (Sat, 01 Feb 2025) EllapsedTime: 26.6 seconds RetCode: 0 Status: OK PackageFile: scMitoMut_1.3.1.tgz PackageFileSize: 1.303 MiB