Package: scFeatures Version: 1.7.0 Command: /Library/Frameworks/R.framework/Resources/bin/R CMD check --install=check:scFeatures.install-out.txt --library=/Library/Frameworks/R.framework/Resources/library --no-vignettes --timings scFeatures_1.7.0.tar.gz StartedAt: 2025-01-31 22:53:11 -0500 (Fri, 31 Jan 2025) EndedAt: 2025-01-31 23:00:27 -0500 (Fri, 31 Jan 2025) EllapsedTime: 436.2 seconds RetCode: 0 Status: OK CheckDir: scFeatures.Rcheck Warnings: 0