Package: scFeatures Version: 1.7.0 Command: /home/biocbuild/R/R/bin/R CMD build --keep-empty-dirs --no-resave-data scFeatures StartedAt: 2025-01-24 02:23:49 -0000 (Fri, 24 Jan 2025) EndedAt: 2025-01-24 02:26:18 -0000 (Fri, 24 Jan 2025) EllapsedTime: 149.1 seconds RetCode: 0 Status: OK PackageFile: scFeatures_1.7.0.tar.gz PackageFileSize: 2.916 MiB