Package: scDotPlot Version: 1.1.0 Command: /Library/Frameworks/R.framework/Resources/bin/R CMD INSTALL scDotPlot StartedAt: 2025-01-31 15:45:51 -0500 (Fri, 31 Jan 2025) EndedAt: 2025-01-31 15:46:43 -0500 (Fri, 31 Jan 2025) EllapsedTime: 51.6 seconds RetCode: 0 Status: OK