Package: scDataviz Version: 1.17.0 Command: /Library/Frameworks/R.framework/Resources/bin/R CMD INSTALL scDataviz StartedAt: 2025-01-31 15:22:37 -0500 (Fri, 31 Jan 2025) EndedAt: 2025-01-31 15:22:51 -0500 (Fri, 31 Jan 2025) EllapsedTime: 14.8 seconds RetCode: 0 Status: OK