Package: scDataviz Version: 1.17.0 Command: rm -rf scDataviz.buildbin-libdir && mkdir scDataviz.buildbin-libdir && /Users/biocbuild/BBS/utils/build-universal.sh scDataviz_1.17.0.tar.gz /Library/Frameworks/R.framework/Resources/bin/R scDataviz.buildbin-libdir StartedAt: 2025-01-31 22:31:22 -0500 (Fri, 31 Jan 2025) EndedAt: 2025-01-31 22:31:39 -0500 (Fri, 31 Jan 2025) EllapsedTime: 17.3 seconds RetCode: 0 Status: OK PackageFile: scDataviz_1.17.0.tgz PackageFileSize: 5.982 MiB