Package: scClassify Version: 1.19.0 Command: chmod a+r scClassify -R && E:\biocbuild\bbs-3.21-bioc\R\bin\R.exe CMD build --keep-empty-dirs --no-resave-data scClassify StartedAt: 2025-01-31 21:11:22 -0500 (Fri, 31 Jan 2025) EndedAt: 2025-01-31 21:14:05 -0500 (Fri, 31 Jan 2025) EllapsedTime: 162.7 seconds RetCode: 0 Status: OK PackageFile: scClassify_1.19.0.tar.gz PackageFileSize: 2.815 MiB