Package: sangeranalyseR Version: 1.17.0 Command: chmod a+r sangeranalyseR -R && E:\biocbuild\bbs-3.21-bioc\R\bin\R.exe CMD build --keep-empty-dirs --no-resave-data sangeranalyseR StartedAt: 2025-01-31 21:08:37 -0500 (Fri, 31 Jan 2025) EndedAt: 2025-01-31 21:10:46 -0500 (Fri, 31 Jan 2025) EllapsedTime: 128.5 seconds RetCode: 0 Status: OK PackageFile: sangeranalyseR_1.17.0.tar.gz PackageFileSize: 38.15 MiB