Package: safe Version: 3.47.0 Command: /home/biocbuild/bbs-3.21-bioc/R/bin/R CMD INSTALL safe StartedAt: 2025-01-31 15:24:16 -0500 (Fri, 31 Jan 2025) EndedAt: 2025-01-31 15:24:31 -0500 (Fri, 31 Jan 2025) EllapsedTime: 15.4 seconds RetCode: 0 Status: OK