Package: rtracklayer Version: 1.67.0 Command: E:\biocbuild\bbs-3.21-bioc\R\bin\R.exe CMD INSTALL rtracklayer StartedAt: 2025-01-31 15:50:56 -0500 (Fri, 31 Jan 2025) EndedAt: 2025-01-31 15:54:49 -0500 (Fri, 31 Jan 2025) EllapsedTime: 233.0 seconds RetCode: 0 Status: OK