Package: rsemmed Version: 1.17.0 Command: /Library/Frameworks/R.framework/Resources/bin/R CMD build --keep-empty-dirs --no-resave-data rsemmed StartedAt: 2025-01-31 18:04:30 -0500 (Fri, 31 Jan 2025) EndedAt: 2025-01-31 18:05:00 -0500 (Fri, 31 Jan 2025) EllapsedTime: 29.7 seconds RetCode: 0 Status: OK PackageFile: rsemmed_1.17.0.tar.gz PackageFileSize: 2.179 MiB