Package: rsemmed Version: 1.17.0 Command: rm -rf rsemmed.buildbin-libdir && mkdir rsemmed.buildbin-libdir && /Users/biocbuild/BBS/utils/build-universal.sh rsemmed_1.17.0.tar.gz /Library/Frameworks/R.framework/Resources/bin/R rsemmed.buildbin-libdir StartedAt: 2025-01-31 22:30:35 -0500 (Fri, 31 Jan 2025) EndedAt: 2025-01-31 22:30:38 -0500 (Fri, 31 Jan 2025) EllapsedTime: 3.1 seconds RetCode: 0 Status: OK PackageFile: rsemmed_1.17.0.tgz PackageFileSize: 2.198 MiB