Package: rqubic Version: 1.53.0 Command: E:\biocbuild\bbs-3.21-bioc\R\bin\R.exe CMD INSTALL rqubic StartedAt: 2025-01-31 16:40:07 -0500 (Fri, 31 Jan 2025) EndedAt: 2025-01-31 16:40:33 -0500 (Fri, 31 Jan 2025) EllapsedTime: 25.7 seconds RetCode: 0 Status: OK