Package: rqubic Version: 1.53.0 Command: E:\biocbuild\bbs-3.21-bioc\R\bin\R.exe CMD check --no-multiarch --install=check:rqubic.install-out.txt --library=E:\biocbuild\bbs-3.21-bioc\R\library --no-vignettes --timings rqubic_1.53.0.tar.gz StartedAt: 2025-02-01 04:32:20 -0500 (Sat, 01 Feb 2025) EndedAt: 2025-02-01 04:33:31 -0500 (Sat, 01 Feb 2025) EllapsedTime: 71.7 seconds RetCode: 0 Status: WARNINGS CheckDir: rqubic.Rcheck Warnings: 1