Package: rqubic Version: 1.53.0 Command: chmod a+r rqubic -R && E:\biocbuild\bbs-3.21-bioc\R\bin\R.exe CMD build --keep-empty-dirs --no-resave-data rqubic StartedAt: 2025-01-31 21:05:14 -0500 (Fri, 31 Jan 2025) EndedAt: 2025-01-31 21:05:56 -0500 (Fri, 31 Jan 2025) EllapsedTime: 42.7 seconds RetCode: 0 Status: OK PackageFile: rqubic_1.53.0.tar.gz PackageFileSize: 189.9 KiB