Package: rqubic Version: 1.53.0 Command: rm -rf rqubic.buildbin-libdir && mkdir rqubic.buildbin-libdir && E:\biocbuild\bbs-3.21-bioc\R\bin\R.exe CMD INSTALL --build --library=rqubic.buildbin-libdir rqubic_1.53.0.tar.gz StartedAt: 2025-02-01 08:06:24 -0500 (Sat, 01 Feb 2025) EndedAt: 2025-02-01 08:07:05 -0500 (Sat, 01 Feb 2025) EllapsedTime: 40.7 seconds RetCode: 0 Status: OK PackageFile: rqubic_1.53.0.zip PackageFileSize: 436.8 KiB