Package: rqubic Version: 1.53.0 Command: /home/biocbuild/R/R/bin/R CMD INSTALL rqubic StartedAt: 2025-01-29 20:26:21 -0000 (Wed, 29 Jan 2025) EndedAt: 2025-01-29 20:26:32 -0000 (Wed, 29 Jan 2025) EllapsedTime: 11.1 seconds RetCode: 0 Status: OK