Package: rqubic Version: 1.53.0 Command: /home/biocbuild/R/R/bin/R CMD build --keep-empty-dirs --no-resave-data rqubic StartedAt: 2025-01-29 01:51:39 -0000 (Wed, 29 Jan 2025) EndedAt: 2025-01-29 01:51:56 -0000 (Wed, 29 Jan 2025) EllapsedTime: 17.0 seconds RetCode: 0 Status: OK PackageFile: rqubic_1.53.0.tar.gz PackageFileSize: 176.5 KiB