Package: rqubic Version: 1.53.0 Command: /Library/Frameworks/R.framework/Resources/bin/R CMD check --install=check:rqubic.install-out.txt --library=/Library/Frameworks/R.framework/Resources/library --no-vignettes --timings rqubic_1.53.0.tar.gz StartedAt: 2025-01-31 21:07:39 -0500 (Fri, 31 Jan 2025) EndedAt: 2025-01-31 21:08:03 -0500 (Fri, 31 Jan 2025) EllapsedTime: 24.4 seconds RetCode: 0 Status: OK CheckDir: rqubic.Rcheck Warnings: 0