Package: rqt Version: 1.33.0 Command: /Library/Frameworks/R.framework/Resources/bin/R CMD INSTALL rqt StartedAt: 2025-01-31 15:26:05 -0500 (Fri, 31 Jan 2025) EndedAt: 2025-01-31 15:26:16 -0500 (Fri, 31 Jan 2025) EllapsedTime: 10.9 seconds RetCode: 0 Status: OK