Package: roastgsa Version: 1.5.0 Command: rm -rf roastgsa.buildbin-libdir && mkdir roastgsa.buildbin-libdir && /Users/biocbuild/BBS/utils/build-universal.sh roastgsa_1.5.0.tar.gz /Library/Frameworks/R.framework/Resources/bin/R roastgsa.buildbin-libdir StartedAt: 2025-01-31 22:30:15 -0500 (Fri, 31 Jan 2025) EndedAt: 2025-01-31 22:30:20 -0500 (Fri, 31 Jan 2025) EllapsedTime: 4.1 seconds RetCode: 0 Status: OK PackageFile: roastgsa_1.5.0.tgz PackageFileSize: 2.239 MiB