Package: rifi Version: 1.11.0 Command: /Library/Frameworks/R.framework/Resources/bin/R CMD build --keep-empty-dirs --no-resave-data rifi StartedAt: 2025-01-31 17:25:56 -0500 (Fri, 31 Jan 2025) EndedAt: 2025-01-31 17:26:30 -0500 (Fri, 31 Jan 2025) EllapsedTime: 33.4 seconds RetCode: 0 Status: OK PackageFile: rifi_1.11.0.tar.gz PackageFileSize: 7.197 MiB