Package: rhdf5 Version: 2.51.2 Command: /home/biocbuild/bbs-3.21-bioc/R/bin/R CMD build --keep-empty-dirs --no-resave-data rhdf5 StartedAt: 2025-01-31 18:57:00 -0500 (Fri, 31 Jan 2025) EndedAt: 2025-01-31 19:02:27 -0500 (Fri, 31 Jan 2025) EllapsedTime: 327.5 seconds RetCode: 0 Status: OK PackageFile: rhdf5_2.51.2.tar.gz PackageFileSize: 1.237 MiB