Package: rgsepd Version: 1.39.0 Command: /home/biocbuild/bbs-3.21-bioc/R/bin/R CMD INSTALL rgsepd StartedAt: 2025-01-31 15:34:07 -0500 (Fri, 31 Jan 2025) EndedAt: 2025-01-31 15:36:35 -0500 (Fri, 31 Jan 2025) EllapsedTime: 147.8 seconds RetCode: 0 Status: OK