Package: regsplice Version: 1.33.0 Command: /Library/Frameworks/R.framework/Resources/bin/R CMD INSTALL regsplice StartedAt: 2025-01-31 15:21:21 -0500 (Fri, 31 Jan 2025) EndedAt: 2025-01-31 15:21:29 -0500 (Fri, 31 Jan 2025) EllapsedTime: 8.4 seconds RetCode: 0 Status: OK