Package: regionalpcs Version: 1.5.0 Command: /home/biocbuild/R/R/bin/R CMD INSTALL regionalpcs StartedAt: 2025-01-29 20:28:13 -0000 (Wed, 29 Jan 2025) EndedAt: 2025-01-29 20:28:15 -0000 (Wed, 29 Jan 2025) EllapsedTime: 2.2 seconds RetCode: 0 Status: OK