Package: regionalpcs Version: 1.5.0 Command: /home/biocbuild/R/R/bin/R CMD build --keep-empty-dirs --no-resave-data regionalpcs StartedAt: 2025-01-29 01:35:48 -0000 (Wed, 29 Jan 2025) EndedAt: 2025-01-29 01:36:31 -0000 (Wed, 29 Jan 2025) EllapsedTime: 43.0 seconds RetCode: 0 Status: OK PackageFile: regionalpcs_1.5.0.tar.gz PackageFileSize: 495 KiB