Package: recountmethylation Version: 1.17.0 Command: /home/biocbuild/bbs-3.21-bioc/R/bin/R CMD build --keep-empty-dirs --no-resave-data recountmethylation StartedAt: 2025-01-31 18:54:05 -0500 (Fri, 31 Jan 2025) EndedAt: 2025-01-31 18:55:51 -0500 (Fri, 31 Jan 2025) EllapsedTime: 105.1 seconds RetCode: 0 Status: OK PackageFile: recountmethylation_1.17.0.tar.gz PackageFileSize: 4.823 MiB