Package: reconsi Version: 1.19.0 Command: /Library/Frameworks/R.framework/Resources/bin/R CMD INSTALL reconsi StartedAt: 2025-01-31 15:38:54 -0500 (Fri, 31 Jan 2025) EndedAt: 2025-01-31 15:39:19 -0500 (Fri, 31 Jan 2025) EllapsedTime: 25.5 seconds RetCode: 0 Status: OK