Package: reconsi Version: 1.19.0 Command: /Library/Frameworks/R.framework/Resources/bin/R CMD check --install=check:reconsi.install-out.txt --library=/Library/Frameworks/R.framework/Resources/library --no-vignettes --timings reconsi_1.19.0.tar.gz StartedAt: 2025-01-31 22:31:54 -0500 (Fri, 31 Jan 2025) EndedAt: 2025-01-31 22:35:16 -0500 (Fri, 31 Jan 2025) EllapsedTime: 201.5 seconds RetCode: 0 Status: OK CheckDir: reconsi.Rcheck Warnings: 0