Package: receptLoss Version: 1.19.0 Command: /home/biocbuild/bbs-3.21-bioc/R/bin/R CMD check --install=check:receptLoss.install-out.txt --library=/home/biocbuild/bbs-3.21-bioc/R/site-library --timings receptLoss_1.19.0.tar.gz StartedAt: 2025-02-01 01:40:41 -0500 (Sat, 01 Feb 2025) EndedAt: 2025-02-01 01:43:23 -0500 (Sat, 01 Feb 2025) EllapsedTime: 161.2 seconds RetCode: 0 Status: OK CheckDir: receptLoss.Rcheck Warnings: 0