Package: receptLoss Version: 1.19.0 Command: /Library/Frameworks/R.framework/Resources/bin/R CMD INSTALL receptLoss StartedAt: 2025-01-31 15:05:02 -0500 (Fri, 31 Jan 2025) EndedAt: 2025-01-31 15:05:11 -0500 (Fri, 31 Jan 2025) EllapsedTime: 8.6 seconds RetCode: 0 Status: OK