Package: rcellminer Version: 2.29.0 Command: chmod a+r rcellminer -R && E:\biocbuild\bbs-3.21-bioc\R\bin\R.exe CMD build --keep-empty-dirs --no-resave-data rcellminer StartedAt: 2025-01-31 20:52:16 -0500 (Fri, 31 Jan 2025) EndedAt: 2025-01-31 20:55:39 -0500 (Fri, 31 Jan 2025) EllapsedTime: 203.1 seconds RetCode: 0 Status: OK PackageFile: rcellminer_2.29.0.tar.gz PackageFileSize: 706.2 KiB