Package: rcellminer Version: 2.29.0 Command: /home/biocbuild/R/R/bin/R CMD check --install=check:rcellminer.install-out.txt --library=/home/biocbuild/R/R/site-library --no-vignettes --timings rcellminer_2.29.0.tar.gz StartedAt: 2025-01-28 14:21:03 -0000 (Tue, 28 Jan 2025) EndedAt: 2025-01-28 14:23:33 -0000 (Tue, 28 Jan 2025) EllapsedTime: 150.3 seconds RetCode: 0 Status: WARNINGS CheckDir: rcellminer.Rcheck Warnings: 1