Package: rcellminer Version: 2.29.0 Command: /Library/Frameworks/R.framework/Resources/bin/R CMD check --install=check:rcellminer.install-out.txt --library=/Library/Frameworks/R.framework/Resources/library --no-vignettes --timings rcellminer_2.29.0.tar.gz StartedAt: 2025-01-31 20:55:39 -0500 (Fri, 31 Jan 2025) EndedAt: 2025-01-31 20:56:24 -0500 (Fri, 31 Jan 2025) EllapsedTime: 45.8 seconds RetCode: 0 Status: WARNINGS CheckDir: rcellminer.Rcheck Warnings: 1