Package: rcellminer Version: 2.29.0 Command: rm -rf rcellminer.buildbin-libdir && mkdir rcellminer.buildbin-libdir && /Users/biocbuild/BBS/utils/build-universal.sh rcellminer_2.29.0.tar.gz /Library/Frameworks/R.framework/Resources/bin/R rcellminer.buildbin-libdir StartedAt: 2025-01-31 22:28:34 -0500 (Fri, 31 Jan 2025) EndedAt: 2025-01-31 22:28:38 -0500 (Fri, 31 Jan 2025) EllapsedTime: 4.1 seconds RetCode: 0 Status: OK PackageFile: rcellminer_2.29.0.tgz PackageFileSize: 2.909 MiB