Package: rawrr Version: 1.15.10 Command: /Library/Frameworks/R.framework/Resources/bin/R CMD INSTALL rawrr StartedAt: 2025-01-31 15:08:02 -0500 (Fri, 31 Jan 2025) EndedAt: 2025-01-31 15:08:46 -0500 (Fri, 31 Jan 2025) EllapsedTime: 43.5 seconds RetCode: 0 Status: OK